BEGIN:VCALENDAR
VERSION:2.0
PRODID:-//Grundschule Kolkwitz - ECPv6.15.20//NONSGML v1.0//EN
CALSCALE:GREGORIAN
METHOD:PUBLISH
X-ORIGINAL-URL:https://grundschule-kolkwitz.de
X-WR-CALDESC:Veranstaltungen für Grundschule Kolkwitz
REFRESH-INTERVAL;VALUE=DURATION:PT1H
X-Robots-Tag:noindex
X-PUBLISHED-TTL:PT1H
BEGIN:VTIMEZONE
TZID:Europe/Berlin
BEGIN:DAYLIGHT
TZOFFSETFROM:+0100
TZOFFSETTO:+0200
TZNAME:CEST
DTSTART:20220327T010000
END:DAYLIGHT
BEGIN:STANDARD
TZOFFSETFROM:+0200
TZOFFSETTO:+0100
TZNAME:CET
DTSTART:20221030T010000
END:STANDARD
BEGIN:DAYLIGHT
TZOFFSETFROM:+0100
TZOFFSETTO:+0200
TZNAME:CEST
DTSTART:20230326T010000
END:DAYLIGHT
BEGIN:STANDARD
TZOFFSETFROM:+0200
TZOFFSETTO:+0100
TZNAME:CET
DTSTART:20231029T010000
END:STANDARD
BEGIN:DAYLIGHT
TZOFFSETFROM:+0100
TZOFFSETTO:+0200
TZNAME:CEST
DTSTART:20240331T010000
END:DAYLIGHT
BEGIN:STANDARD
TZOFFSETFROM:+0200
TZOFFSETTO:+0100
TZNAME:CET
DTSTART:20241027T010000
END:STANDARD
END:VTIMEZONE
BEGIN:VEVENT
DTSTART;TZID=Europe/Berlin:20231116T000000
DTEND;TZID=Europe/Berlin:20231116T000000
DTSTAMP:20260420T224208
CREATED:20230829T174921Z
LAST-MODIFIED:20230829T182434Z
UID:2811-1700092800-1700092800@grundschule-kolkwitz.de
SUMMARY:Ü7-Verfahren (EV) SJ 2023/24
DESCRIPTION:In Brandenburg gehen in der Regel alle Kinder bis einschließlich der 6. Klasse in die Grundschule. Erst danach erfolgt der Übertritt in die weiterführenden Schulen. Der Übergang in die 7. Klasse einer weiterführenden Schule (Sekundarstufe I) wird als Ü7-Verfahren bezeichnet. Der Wechsel eines Kindes von der Grundschule (am Ende der Jahrgangsstufe 6) in eine weiterführende Schule ist ein bedeutendes Ereignis| da die richtige Wahl einer weiterführenden Schule für die individuelle Entwicklung eines jeden einzelnen Kindes wichtig ist. Dieser Entscheidungsprozess ist häufig mit einer Vielzahl von Fragen verbunden| um abschließend eine Schule zu finden| in der sich das Kind wohl fühlt und zugleich entsprechend seiner Individualität gefördert und gefordert wird. Für die Aufnahme in eine weiterführende allgemeinbildende Schule sind neben dem Wunsch der Sorgeberechtigten die Feststellung der Fähigkeiten| Leistungen und Neigungen maßgebend| dazu gehören das Grundschulgutachten und das Halbjahreszeugnis der Jahrgangsstufe 6.
URL:https://grundschule-kolkwitz.de/event/ue7-verfahren-ev-sj-2023-24/
LOCATION:Grundschule Kolkwitz\, Karl-Liebknecht-Straße 7\, Kolkwitz\, Brandenburg\, 03099\, Deutschland
CATEGORIES:Grundschule Kolkwitz
END:VEVENT
END:VCALENDAR