BEGIN:VCALENDAR
VERSION:2.0
PRODID:-//Grundschule Kolkwitz - ECPv6.15.20//NONSGML v1.0//EN
CALSCALE:GREGORIAN
METHOD:PUBLISH
X-ORIGINAL-URL:https://grundschule-kolkwitz.de
X-WR-CALDESC:Veranstaltungen für Grundschule Kolkwitz
REFRESH-INTERVAL;VALUE=DURATION:PT1H
X-Robots-Tag:noindex
X-PUBLISHED-TTL:PT1H
BEGIN:VTIMEZONE
TZID:Europe/Berlin
BEGIN:DAYLIGHT
TZOFFSETFROM:+0100
TZOFFSETTO:+0200
TZNAME:CEST
DTSTART:20190331T010000
END:DAYLIGHT
BEGIN:STANDARD
TZOFFSETFROM:+0200
TZOFFSETTO:+0100
TZNAME:CET
DTSTART:20191027T010000
END:STANDARD
BEGIN:DAYLIGHT
TZOFFSETFROM:+0100
TZOFFSETTO:+0200
TZNAME:CEST
DTSTART:20200329T010000
END:DAYLIGHT
BEGIN:STANDARD
TZOFFSETFROM:+0200
TZOFFSETTO:+0100
TZNAME:CET
DTSTART:20201025T010000
END:STANDARD
BEGIN:DAYLIGHT
TZOFFSETFROM:+0100
TZOFFSETTO:+0200
TZNAME:CEST
DTSTART:20210328T010000
END:DAYLIGHT
BEGIN:STANDARD
TZOFFSETFROM:+0200
TZOFFSETTO:+0100
TZNAME:CET
DTSTART:20211031T010000
END:STANDARD
END:VTIMEZONE
BEGIN:VEVENT
DTSTART;VALUE=DATE:20200505
DTEND;VALUE=DATE:20200506
DTSTAMP:20260421T011544
CREATED:20200224T095941Z
LAST-MODIFIED:20200224T100134Z
UID:310-1588636800-1588723199@grundschule-kolkwitz.de
SUMMARY:Big Challenge 2020
DESCRIPTION:The Big Challenge hat sich das Ziel gesetzt\, Englischlehrkräfte beim Motivieren ihrer SchülerInnen zu unterstützen. Wir erstellen unterhaltsame und pädagogische Spiele und organisieren Veranstaltungen\, die es den Lehrkräften erlauben\, ihre Klassen und SchülerInnen das ganze Schuljahr mit einzubeziehen. Der Big Challenge Wettbewerb wurde 1999 in Frankreich ins Leben gerufen. In Deutschland nehmen jedes Jahr über 260 000 SchülerInnen teil\, in Europa über 630 000. Auf der Game Zone wurden in 2019 über 11 Mio Partien gespielt.
URL:https://grundschule-kolkwitz.de/event/big-challenge-2020/
LOCATION:Grundschule Kolkwitz\, Karl-Liebknecht-Straße 7\, Kolkwitz\, Brandenburg\, 03099\, Deutschland
CATEGORIES:Schulveranstaltung
ORGANIZER;CN="The Big Challenge":MAILTO:mail@thebigchallenge.com
END:VEVENT
END:VCALENDAR