BEGIN:VCALENDAR
VERSION:2.0
PRODID:-//Grundschule Kolkwitz - ECPv6.15.20//NONSGML v1.0//EN
CALSCALE:GREGORIAN
METHOD:PUBLISH
X-ORIGINAL-URL:https://grundschule-kolkwitz.de
X-WR-CALDESC:Veranstaltungen für Grundschule Kolkwitz
REFRESH-INTERVAL;VALUE=DURATION:PT1H
X-Robots-Tag:noindex
X-PUBLISHED-TTL:PT1H
BEGIN:VTIMEZONE
TZID:Europe/Berlin
BEGIN:DAYLIGHT
TZOFFSETFROM:+0100
TZOFFSETTO:+0200
TZNAME:CEST
DTSTART:20210328T010000
END:DAYLIGHT
BEGIN:STANDARD
TZOFFSETFROM:+0200
TZOFFSETTO:+0100
TZNAME:CET
DTSTART:20211031T010000
END:STANDARD
BEGIN:DAYLIGHT
TZOFFSETFROM:+0100
TZOFFSETTO:+0200
TZNAME:CEST
DTSTART:20220327T010000
END:DAYLIGHT
BEGIN:STANDARD
TZOFFSETFROM:+0200
TZOFFSETTO:+0100
TZNAME:CET
DTSTART:20221030T010000
END:STANDARD
BEGIN:DAYLIGHT
TZOFFSETFROM:+0100
TZOFFSETTO:+0200
TZNAME:CEST
DTSTART:20230326T010000
END:DAYLIGHT
BEGIN:STANDARD
TZOFFSETFROM:+0200
TZOFFSETTO:+0100
TZNAME:CET
DTSTART:20231029T010000
END:STANDARD
END:VTIMEZONE
BEGIN:VEVENT
DTSTART;TZID=Europe/Berlin:20221012T000000
DTEND;TZID=Europe/Berlin:20221012T000000
DTSTAMP:20260422T185438
CREATED:20220823T165519Z
LAST-MODIFIED:20221005T211152Z
UID:1812-1665532800-1665532800@grundschule-kolkwitz.de
SUMMARY:01. Schulkonferenz 2022/23
DESCRIPTION:
URL:https://grundschule-kolkwitz.de/event/01-schulkonferenz-2022-23/
LOCATION:Grundschule Kolkwitz\, Karl-Liebknecht-Straße 7\, Kolkwitz\, Brandenburg\, 03099\, Deutschland
CATEGORIES:Grundschule Kolkwitz
END:VEVENT
BEGIN:VEVENT
DTSTART;TZID=Europe/Berlin:20221012T000000
DTEND;TZID=Europe/Berlin:20221012T000000
DTSTAMP:20260422T185438
CREATED:20230829T174908Z
LAST-MODIFIED:20230829T182417Z
UID:2802-1665532800-1665532800@grundschule-kolkwitz.de
SUMMARY:01. Schulkonferenz SJ 2023/24
DESCRIPTION:Die Schulkonferenz ist das gemeinsame Beratungs- und Entscheidungsgremium der Schule. Sie berät in allen wichtigen Angelegenheiten| die die Schule betreffen. Sie vermittelt in Streitfällen. Eine Drittelparität erlaubt| dass die drei großen an Schule beteiligten Personengruppen (Eltern| Lehrkräfte| Schülerinnen und Schüler) in der Schulkonferenz vertreten sind und ihre Meinungen gleichberechtigt einbringen können. Stimmberechtigte Mitglieder der Schulkonferenz sind die Schulleiterin/der Schulleiter| vier Lehrkräfte| fünf Schülerinnen/Schüler| fünf Eltern| sowie der Schulträger. Sie werden von ihren Konferenzen für jeweils zwei Jahre als Vertreterinnen/Vertreter gewählt. Bei Schulen| die einzügig sind| verringert sich die Zahl der stimmberechtigten Mitglieder auf zwei Lehrkräfte| die Schulleiterin/den Schulleiter und drei Eltern sowie drei Schülerinnen bzw. Schüler. An Schulen| die nur die Primarstufe umfassen| gehören der Schulkonferenz Schülerinnen und Schüler ab Jahrgangsstufe 4 mit beratender Stimme an.
URL:https://grundschule-kolkwitz.de/event/01-schulkonferenz-sj-2023-24/
LOCATION:Grundschule Kolkwitz\, Karl-Liebknecht-Straße 7\, Kolkwitz\, Brandenburg\, 03099\, Deutschland
CATEGORIES:Grundschule Kolkwitz
END:VEVENT
END:VCALENDAR