BEGIN:VCALENDAR
VERSION:2.0
PRODID:-//Grundschule Kolkwitz - ECPv6.15.20//NONSGML v1.0//EN
CALSCALE:GREGORIAN
METHOD:PUBLISH
X-WR-CALNAME:Grundschule Kolkwitz
X-ORIGINAL-URL:https://grundschule-kolkwitz.de
X-WR-CALDESC:Veranstaltungen für Grundschule Kolkwitz
REFRESH-INTERVAL;VALUE=DURATION:PT1H
X-Robots-Tag:noindex
X-PUBLISHED-TTL:PT1H
BEGIN:VTIMEZONE
TZID:Europe/Berlin
BEGIN:DAYLIGHT
TZOFFSETFROM:+0100
TZOFFSETTO:+0200
TZNAME:CEST
DTSTART:20200329T010000
END:DAYLIGHT
BEGIN:STANDARD
TZOFFSETFROM:+0200
TZOFFSETTO:+0100
TZNAME:CET
DTSTART:20201025T010000
END:STANDARD
BEGIN:DAYLIGHT
TZOFFSETFROM:+0100
TZOFFSETTO:+0200
TZNAME:CEST
DTSTART:20210328T010000
END:DAYLIGHT
BEGIN:STANDARD
TZOFFSETFROM:+0200
TZOFFSETTO:+0100
TZNAME:CET
DTSTART:20211031T010000
END:STANDARD
BEGIN:DAYLIGHT
TZOFFSETFROM:+0100
TZOFFSETTO:+0200
TZNAME:CEST
DTSTART:20220327T010000
END:DAYLIGHT
BEGIN:STANDARD
TZOFFSETFROM:+0200
TZOFFSETTO:+0100
TZNAME:CET
DTSTART:20221030T010000
END:STANDARD
END:VTIMEZONE
BEGIN:VEVENT
DTSTART;VALUE=DATE:20210911
DTEND;VALUE=DATE:20210912
DTSTAMP:20260422T074436
CREATED:20210818T170815Z
LAST-MODIFIED:20210818T170922Z
UID:1373-1631318400-1631404799@grundschule-kolkwitz.de
SUMMARY:13. Cottbuser eG Wohnen Schüler-Triathlon 2021
DESCRIPTION:
URL:https://grundschule-kolkwitz.de/event/13-cottbuser-eg-wohnen-schueler-triathlon-2021/
LOCATION:Schwimmhalle Lagune\, Sielower Landstraße 19\, Cottbus\, Brandenburg\, 03044
CATEGORIES:Schulveranstaltung
ATTACH;FMTTYPE=image/png:https://grundschule-kolkwitz.de/wp-content/uploads/2021/08/Schuelertriathlon.png
ORGANIZER;CN="TSV Cottbus e.V.%2C Abteilung Triathlon":MAILTO:johannes.schmidt@tsv-cottbus.de
END:VEVENT
END:VCALENDAR